BEGIN:VCALENDAR
PRODID:-//Stecki//NONSGML CDU-CMS 1.0//EN
VERSION:2.0
CALSCALE:GREGORIAN
METHOD:PUBLISH
X-WR-CALNAME:CDU Delingsdorf
X-WR-TIMEZONE:Europe/Berlin
BEGIN:VEVENT
DTSTART:20260614T110000Z
DTEND:20260614T130000Z
DTSTAMP:20260424T132718Z
CREATED:20260424T094009Z
LAST-MODIFIED:20260424T094009Z
UID:1496@www.cdu-delingsdorf.de
URL:https://www.cdu-delingsdorf.de/termine/1496+Gemeinderadtour+im+Rahmen+von+%23Stadtradeln+2026
SEQUENCE:0
ORGANIZER:MAILTO:webmaster@cdu-delingsdorf.de
PRIORITY:5
SUMMARY:Gemeinderadtour im Rahmen von #Stadtradeln 2026 (Gemeinde Delingsdorf) via 
	 cdu-delingsdorf.de
DESCRIPTION:Infos folgen 
	 Siehe 
	 https://www.cdu-delingsdorf.de/termine/1496+Gemeinderadtour+im+Rahmen+von+%23Stadtradeln+2026
CATEGORIES:CDU,Delingsdorf
COMMENT:
LOCATION:Treffpunkt am Kannenplatz/Backhaus, Ecke Schulstraße/Dorfstraße, 22941 Delingsdorf
TRANSP:OPAQUE
BEGIN:VALARM
TRIGGER:-P1D
ACTION:DISPLAY
DESCRIPTION:Reminder
END:VALARM
END:VEVENT
END:VCALENDAR